BEGIN:VCALENDAR
VERSION:2.0
PRODID:-//USBC Association #80279 - ECPv6.15.18//NONSGML v1.0//EN
CALSCALE:GREGORIAN
METHOD:PUBLISH
X-WR-CALNAME:USBC Association #80279
X-ORIGINAL-URL:https://www.southsoundusbc.com
X-WR-CALDESC:Events for USBC Association #80279
REFRESH-INTERVAL;VALUE=DURATION:PT1H
X-Robots-Tag:noindex
X-PUBLISHED-TTL:PT1H
BEGIN:VTIMEZONE
TZID:America/Los_Angeles
BEGIN:DAYLIGHT
TZOFFSETFROM:-0800
TZOFFSETTO:-0700
TZNAME:PDT
DTSTART:20250309T100000
END:DAYLIGHT
BEGIN:STANDARD
TZOFFSETFROM:-0700
TZOFFSETTO:-0800
TZNAME:PST
DTSTART:20251102T090000
END:STANDARD
BEGIN:DAYLIGHT
TZOFFSETFROM:-0800
TZOFFSETTO:-0700
TZNAME:PDT
DTSTART:20260308T100000
END:DAYLIGHT
BEGIN:STANDARD
TZOFFSETFROM:-0700
TZOFFSETTO:-0800
TZNAME:PST
DTSTART:20261101T090000
END:STANDARD
BEGIN:DAYLIGHT
TZOFFSETFROM:-0800
TZOFFSETTO:-0700
TZNAME:PDT
DTSTART:20270314T100000
END:DAYLIGHT
BEGIN:STANDARD
TZOFFSETFROM:-0700
TZOFFSETTO:-0800
TZNAME:PST
DTSTART:20271107T090000
END:STANDARD
END:VTIMEZONE
BEGIN:VEVENT
DTSTART;VALUE=DATE:20260427
DTEND;VALUE=DATE:20260501
DTSTAMP:20260421T062843
CREATED:20260324T005224Z
LAST-MODIFIED:20260324T005807Z
UID:705-1777248000-1777593599@www.southsoundusbc.com
SUMMARY:2026 USBC Convention and Annual Meeting
DESCRIPTION:
URL:https://www.southsoundusbc.com/?tribe_events=2026-usbc-convention-and-annual-meeting
LOCATION:Silver Legacy Resort Casino\, 407 North Virginia Street\, Reno\, NV\, 89501
CATEGORIES:Other Events
ATTACH;FMTTYPE=image/png:https://www.southsoundusbc.com/wp-content/uploads/2026/03/united_states_bowling_congress_logo.png
ORGANIZER;CN="United States Bowling Congress":MAILTO:associationservices@bowl.com
END:VEVENT
END:VCALENDAR